BEGIN:VCALENDAR
VERSION:2.0
PRODID:-//The Edmonton Rugby Football Club - Pirates Rugby - ECPv4.6.2//NONSGML v1.0//EN
CALSCALE:GREGORIAN
METHOD:PUBLISH
X-WR-CALNAME:The Edmonton Rugby Football Club - Pirates Rugby
X-ORIGINAL-URL:http://34.213.199.134
X-WR-CALDESC:Events for The Edmonton Rugby Football Club - Pirates Rugby
BEGIN:VEVENT
DTSTART;TZID=UTC+0:20210710T090000
DTEND;TZID=UTC+0:20210710T120000
DTSTAMP:20260422T083727
CREATED:20210707T161308Z
LAST-MODIFIED:20210707T161308Z
UID:2427-1625907600-1625918400@34.213.199.134
SUMMARY:Mini's Festival
DESCRIPTION:Location: St. Albert Rugby Club \nU5: 10 to 11 AM \nU7: 9 to 10 AM \nU9: 10:30 to 11:30 AM \nU11: 11 AM to noon \n
URL:http://34.213.199.134/event/minis-festival/
LOCATION:51 Riel Drive\, St. Albert\, Alberta\, Canada
GEO:53.618922;-113.64889
X-APPLE-STRUCTURED-LOCATION;VALUE=URI;X-ADDRESS=51 Riel Drive St. Albert Alberta Canada;X-APPLE-RADIUS=500;X-TITLE=51 Riel Drive:geo:-113.64889,53.618922
END:VEVENT
END:VCALENDAR