BEGIN:VCALENDAR
VERSION:2.0
PRODID:-//The Edmonton Rugby Football Club - Pirates Rugby - ECPv4.6.2//NONSGML v1.0//EN
CALSCALE:GREGORIAN
METHOD:PUBLISH
X-WR-CALNAME:The Edmonton Rugby Football Club - Pirates Rugby
X-ORIGINAL-URL:http://34.213.199.134
X-WR-CALDESC:Events for The Edmonton Rugby Football Club - Pirates Rugby
BEGIN:VEVENT
DTSTART;TZID=UTC+0:20190727T140000
DTEND;TZID=UTC+0:20190727T153000
DTSTAMP:20260422T211009
CREATED:20190708T184708Z
LAST-MODIFIED:20190708T184708Z
UID:2218-1564236000-1564241400@34.213.199.134
SUMMARY:Pirates Div 3 Men vs. LT/NW
DESCRIPTION:Ref: TBD \n
URL:http://34.213.199.134/event/pirates-div-3-men-vs-lt-nw/
LOCATION:1904 167 Ave NW\, Edmonton\, Alberta\, T5Y 6L7\, Canada
CATEGORIES:Senior Men's Game
END:VEVENT
END:VCALENDAR