BEGIN:VCALENDAR
VERSION:2.0
PRODID:-//The Edmonton Rugby Football Club - Pirates Rugby - ECPv4.6.2//NONSGML v1.0//EN
CALSCALE:GREGORIAN
METHOD:PUBLISH
X-WR-CALNAME:The Edmonton Rugby Football Club - Pirates Rugby
X-ORIGINAL-URL:http://34.213.199.134
X-WR-CALDESC:Events for The Edmonton Rugby Football Club - Pirates Rugby
BEGIN:VEVENT
DTSTART;TZID=UTC+0:20190720T080000
DTEND;TZID=UTC+0:20190720T170000
DTSTAMP:20260423T015522
CREATED:20190708T184257Z
LAST-MODIFIED:20190708T184257Z
UID:2210-1563609600-1563642000@34.213.199.134
SUMMARY:Pirates AWP vs. Calgary Rams RFC
DESCRIPTION:KO time and Ref TBD \n
URL:http://34.213.199.134/event/pirates-awp-vs-calgary-rams-rfc/
LOCATION:9025 Shepard Road SE\, Calgary\, Alberta\, Canada
GEO:50.9724721;-113.9915606
X-APPLE-STRUCTURED-LOCATION;VALUE=URI;X-ADDRESS=9025 Shepard Road SE Calgary Alberta Canada;X-APPLE-RADIUS=500;X-TITLE=9025 Shepard Road SE:geo:-113.9915606,50.9724721
CATEGORIES:Senior Women's Game
END:VEVENT
END:VCALENDAR