BEGIN:VCALENDAR
VERSION:2.0
PRODID:-//The Edmonton Rugby Football Club - Pirates Rugby - ECPv4.6.2//NONSGML v1.0//EN
CALSCALE:GREGORIAN
METHOD:PUBLISH
X-WR-CALNAME:The Edmonton Rugby Football Club - Pirates Rugby
X-ORIGINAL-URL:http://34.213.199.134
X-WR-CALDESC:Events for The Edmonton Rugby Football Club - Pirates Rugby
BEGIN:VEVENT
DTSTART;TZID=UTC+0:20190713T120000
DTEND;TZID=UTC+0:20190713T133000
DTSTAMP:20260423T054135
CREATED:20190708T184143Z
LAST-MODIFIED:20190708T184143Z
UID:2208-1563019200-1563024600@34.213.199.134
SUMMARY:Pirates AWP vs. Calgary Hornets RFC
DESCRIPTION:\n\n\n\n\n\n\n\n\n\n\n\n\nRef: Chris Nesbitt \n
URL:http://34.213.199.134/event/pirates-awp-vs-calgary-hornets-rfc/
LOCATION:1904 167 Ave NW\, Edmonton\, Alberta\, T5Y 6L7\, Canada
CATEGORIES:Senior Women's Game
END:VEVENT
END:VCALENDAR