BEGIN:VCALENDAR
VERSION:2.0
PRODID:-//The Edmonton Rugby Football Club - Pirates Rugby - ECPv4.6.2//NONSGML v1.0//EN
CALSCALE:GREGORIAN
METHOD:PUBLISH
X-WR-CALNAME:The Edmonton Rugby Football Club - Pirates Rugby
X-ORIGINAL-URL:http://34.213.199.134
X-WR-CALDESC:Events for The Edmonton Rugby Football Club - Pirates Rugby
BEGIN:VEVENT
DTSTART;TZID=UTC+0:20180729T120000
DTEND;TZID=UTC+0:20180729T170000
DTSTAMP:20260423T195154
CREATED:20180604T031414Z
LAST-MODIFIED:20180604T031414Z
UID:2033-1532865600-1532883600@34.213.199.134
SUMMARY:Paint Nite Fundraiser
DESCRIPTION:
URL:http://34.213.199.134/event/paint-nite-fundraiser/
LOCATION:1904 167 Avenue\, Edmonton\, Canada
GEO:53.629402;-113.370487
X-APPLE-STRUCTURED-LOCATION;VALUE=URI;X-ADDRESS=1904 167 Avenue Edmonton Canada;X-APPLE-RADIUS=500;X-TITLE=1904 167 Avenue:geo:-113.370487,53.629402
END:VEVENT
END:VCALENDAR