BEGIN:VCALENDAR
VERSION:2.0
PRODID:-//The Edmonton Rugby Football Club - Pirates Rugby - ECPv4.6.2//NONSGML v1.0//EN
CALSCALE:GREGORIAN
METHOD:PUBLISH
X-WR-CALNAME:The Edmonton Rugby Football Club - Pirates Rugby
X-ORIGINAL-URL:http://34.213.199.134
X-WR-CALDESC:Events for The Edmonton Rugby Football Club - Pirates Rugby
BEGIN:VEVENT
DTSTART;TZID=UTC+0:20210609T180000
DTEND;TZID=UTC+0:20210609T190000
DTSTAMP:20260422T095045
CREATED:20210530T155838Z
LAST-MODIFIED:20210601T174010Z
UID:2375-1623261600-1623265200@34.213.199.134
SUMMARY:Minis U9 and U11 Training
DESCRIPTION:Health Check In prior to arrival required \nHead Coach – Katherine Poshtar \nCohorts of 10 maximum \n
URL:http://34.213.199.134/event/minis-u9-and-u11-training-2021-06-09/2021-06-09/
END:VEVENT
END:VCALENDAR