BEGIN:VCALENDAR
VERSION:2.0
PRODID:-//The Edmonton Rugby Football Club - Pirates Rugby - ECPv4.6.2//NONSGML v1.0//EN
CALSCALE:GREGORIAN
METHOD:PUBLISH
X-WR-CALNAME:The Edmonton Rugby Football Club - Pirates Rugby
X-ORIGINAL-URL:http://34.213.199.134
X-WR-CALDESC:Events for The Edmonton Rugby Football Club - Pirates Rugby
BEGIN:VEVENT
DTSTART;TZID=UTC+0:20210603T180000
DTEND;TZID=UTC+0:20210603T190000
DTSTAMP:20260422T093501
CREATED:20210530T155717Z
LAST-MODIFIED:20210601T174035Z
UID:2362-1622743200-1622746800@34.213.199.134
SUMMARY:Minis U5 and U7 Training - Postponed
DESCRIPTION:Health Check In prior to arrival required \nHead Coach – Jarret Barton \nCohorts of 10 maximum \n  \n
URL:http://34.213.199.134/event/minis-u5-and-u7-training/
LOCATION:1904 167 Ave NW\, Edmonton\, Alberta\, T5Y 6L7\, Canada
END:VEVENT
END:VCALENDAR