BEGIN:VCALENDAR
VERSION:2.0
PRODID:-//The Edmonton Rugby Football Club - Pirates Rugby - ECPv4.6.2//NONSGML v1.0//EN
CALSCALE:GREGORIAN
METHOD:PUBLISH
X-WR-CALNAME:The Edmonton Rugby Football Club - Pirates Rugby
X-ORIGINAL-URL:http://34.213.199.134
X-WR-CALDESC:Events for The Edmonton Rugby Football Club - Pirates Rugby
BEGIN:VEVENT
DTSTART;TZID=UTC+0:20210610T180000
DTEND;TZID=UTC+0:20210610T190000
DTSTAMP:20260422T094255
CREATED:20210530T155717Z
LAST-MODIFIED:20210601T174029Z
UID:2364-1623348000-1623351600@34.213.199.134
SUMMARY:Minis U5 and U7 Training
DESCRIPTION:Health Check In prior to arrival required \nHead Coach – Jarret Barton \nCohorts of 10 maximum \n  \n
URL:http://34.213.199.134/event/minis-u5-and-u7-training-2021-06-10/2021-06-10/
LOCATION:1904 167 Ave NW\, Edmonton\, Alberta\, T5Y 6L7\, Canada
END:VEVENT
END:VCALENDAR