BEGIN:VCALENDAR
VERSION:2.0
PRODID:-//The Edmonton Rugby Football Club - Pirates Rugby - ECPv4.6.2//NONSGML v1.0//EN
CALSCALE:GREGORIAN
METHOD:PUBLISH
X-WR-CALNAME:The Edmonton Rugby Football Club - Pirates Rugby
X-ORIGINAL-URL:http://34.213.199.134
X-WR-CALDESC:Events for The Edmonton Rugby Football Club - Pirates Rugby
BEGIN:VEVENT
DTSTART;TZID=UTC+0:20210717T090000
DTEND;TZID=UTC+0:20210717T120000
DTSTAMP:20260422T082852
CREATED:20210717T021500Z
LAST-MODIFIED:20210717T021500Z
UID:2433-1626512400-1626523200@34.213.199.134
SUMMARY:Mini's Festival
DESCRIPTION:Mini’s Schedule for Saturday\, July 17th. Location is Nor’Westers fields (https://goo.gl/maps/aJCvfpXQPoybKLvQ6). 711 50 Street SW.\nU5: 10 to 11 AM\nU7: 9 to 10 AM\nU9: 10 to 11 AM\nU11: 11 to noon \n \n \n
URL:http://34.213.199.134/event/minis-festival-2/
LOCATION:711 50 Street SW\, Edmonton\, Canada
CATEGORIES:Mini's Games
END:VEVENT
END:VCALENDAR