BEGIN:VCALENDAR
VERSION:2.0
PRODID:-//The Edmonton Rugby Football Club - Pirates Rugby - ECPv4.6.2//NONSGML v1.0//EN
CALSCALE:GREGORIAN
METHOD:PUBLISH
X-WR-CALNAME:The Edmonton Rugby Football Club - Pirates Rugby
X-ORIGINAL-URL:http://34.213.199.134
X-WR-CALDESC:Events for The Edmonton Rugby Football Club - Pirates Rugby
BEGIN:VEVENT
DTSTART;TZID=UTC+0:20190727T160000
DTEND;TZID=UTC+0:20190727T180000
DTSTAMP:20260422T191923
CREATED:20190708T183455Z
LAST-MODIFIED:20190708T183711Z
UID:2204-1564243200-1564250400@34.213.199.134
SUMMARY:Jolly Rogers vs. LT's
DESCRIPTION:The Old Boy’s take on the LT Masters at the Annual Pirates Pig roast day \n
URL:http://34.213.199.134/event/jolly-rogers-vs-lts/
LOCATION:1904 167 Ave NW\, Edmonton\, Alberta\, T5Y 6L7\, Canada
END:VEVENT
END:VCALENDAR