BEGIN:VCALENDAR
VERSION:2.0
PRODID:-//The Edmonton Rugby Football Club - Pirates Rugby - ECPv4.6.2//NONSGML v1.0//EN
CALSCALE:GREGORIAN
METHOD:PUBLISH
X-WR-CALNAME:The Edmonton Rugby Football Club - Pirates Rugby
X-ORIGINAL-URL:http://34.213.199.134
X-WR-CALDESC:Events for The Edmonton Rugby Football Club - Pirates Rugby
BEGIN:VEVENT
DTSTART;TZID=UTC+0:20180213T210000
DTEND;TZID=UTC+0:20180213T223000
DTSTAMP:20260424T205737
CREATED:20180123T155326Z
LAST-MODIFIED:20180123T160723Z
UID:1977-1518555600-1518561000@34.213.199.134
SUMMARY:Indoor Training
DESCRIPTION:All indoor training sessions are FREE and drop-in with all skill levels and experience welcome.  You do not have to have played rugby to come and try it out. \n
URL:http://34.213.199.134/event/indoor-training/2018-02-13/
LOCATION:9260 58 St NW\, Edmonton\, Alberta\, Canada
GEO:53.5860952;-113.4306607
X-APPLE-STRUCTURED-LOCATION;VALUE=URI;X-ADDRESS=9260 58 St NW Edmonton Alberta Canada;X-APPLE-RADIUS=500;X-TITLE=9260 58 St NW:geo:-113.4306607,53.5860952
END:VEVENT
END:VCALENDAR