BEGIN:VCALENDAR
VERSION:2.0
PRODID:-//The Edmonton Rugby Football Club - Pirates Rugby - ECPv4.6.2//NONSGML v1.0//EN
CALSCALE:GREGORIAN
METHOD:PUBLISH
X-WR-CALNAME:The Edmonton Rugby Football Club - Pirates Rugby
X-ORIGINAL-URL:http://34.213.199.134
X-WR-CALDESC:Events for The Edmonton Rugby Football Club - Pirates Rugby
BEGIN:VEVENT
DTSTART;TZID=UTC+0:20190113T180000
DTEND;TZID=UTC+0:20190113T190000
DTSTAMP:20260423T141121
CREATED:20190118T161043Z
LAST-MODIFIED:20190118T161043Z
UID:2097-1547402400-1547406000@34.213.199.134
SUMMARY:Indoor Training
DESCRIPTION:Indoor training at ACT and O’Leary High School! Come on out for a run around and to sharpen those skills before the season begins. Free for all attendees. Men’s\, Women’s\, Old Boys and Juniors all welcome\, and we welcome those brand new to the sport\, coming back for another year or wanting to just get in some exercise with a group of friends. \n \n
URL:http://34.213.199.134/event/indoor-training-5/2019-01-13/
LOCATION:2909 113 Ave NW\, Edmonton\, Alberta\, T5W 4S1\, Canada
END:VEVENT
END:VCALENDAR