BEGIN:VCALENDAR
VERSION:2.0
PRODID:-//The Edmonton Rugby Football Club - Pirates Rugby - ECPv4.6.2//NONSGML v1.0//EN
CALSCALE:GREGORIAN
METHOD:PUBLISH
X-WR-CALNAME:The Edmonton Rugby Football Club - Pirates Rugby
X-ORIGINAL-URL:http://34.213.199.134
X-WR-CALDESC:Events for The Edmonton Rugby Football Club - Pirates Rugby
BEGIN:VEVENT
DTSTART;TZID=UTC+0:20180817T190000
DTEND;TZID=UTC+0:20180817T220000
DTSTAMP:20260423T144942
CREATED:20180604T034255Z
LAST-MODIFIED:20180604T034255Z
UID:2068-1534532400-1534543200@34.213.199.134
SUMMARY:Div 3 Men vs Lep Tigers
DESCRIPTION:
URL:http://34.213.199.134/event/div-3-men-vs-lep-tigers/
LOCATION:3004 92 Street NW\, Edmonton\, Alberta\, Canada
GEO:53.4623813;-113.4710159
X-APPLE-STRUCTURED-LOCATION;VALUE=URI;X-ADDRESS=3004 92 Street NW Edmonton Alberta Canada;X-APPLE-RADIUS=500;X-TITLE=3004 92 Street NW:geo:-113.4710159,53.4623813
END:VEVENT
END:VCALENDAR