BEGIN:VCALENDAR
VERSION:2.0
PRODID:-//The Edmonton Rugby Football Club - Pirates Rugby - ECPv4.6.2//NONSGML v1.0//EN
CALSCALE:GREGORIAN
METHOD:PUBLISH
X-WR-CALNAME:The Edmonton Rugby Football Club - Pirates Rugby
X-ORIGINAL-URL:http://34.213.199.134
X-WR-CALDESC:Events for The Edmonton Rugby Football Club - Pirates Rugby
BEGIN:VEVENT
DTSTART;TZID=UTC+0:20180609T190000
DTEND;TZID=UTC+0:20180609T220000
DTSTAMP:20260424T124728
CREATED:20180604T201358Z
LAST-MODIFIED:20180604T201617Z
UID:2070-1528570800-1528581600@34.213.199.134
SUMMARY:Canada vs Scotland
DESCRIPTION:
URL:http://34.213.199.134/event/canada-vs-scotland/
LOCATION:11000 Stadium Road NW\, Edmonton\, Alberta\, Canada
GEO:53.5582636;-113.4764944
X-APPLE-STRUCTURED-LOCATION;VALUE=URI;X-ADDRESS=11000 Stadium Road NW Edmonton Alberta Canada;X-APPLE-RADIUS=500;X-TITLE=11000 Stadium Road NW:geo:-113.4764944,53.5582636
END:VEVENT
END:VCALENDAR