BEGIN:VCALENDAR
VERSION:2.0
PRODID:-//The Edmonton Rugby Football Club - Pirates Rugby - ECPv4.6.2//NONSGML v1.0//EN
CALSCALE:GREGORIAN
METHOD:PUBLISH
X-WR-CALNAME:The Edmonton Rugby Football Club - Pirates Rugby
X-ORIGINAL-URL:http://34.213.199.134
X-WR-CALDESC:Events for The Edmonton Rugby Football Club - Pirates Rugby
BEGIN:VEVENT
DTSTART;TZID=UTC+0:20180608T190000
DTEND;TZID=UTC+0:20180608T233000
DTSTAMP:20260424T142113
CREATED:20180604T201906Z
LAST-MODIFIED:20180604T201906Z
UID:2074-1528484400-1528500600@34.213.199.134
SUMMARY:Canada-Scotland Fundraiser
DESCRIPTION: \n
URL:http://34.213.199.134/event/canada-scotland-fundraiser/
LOCATION:11248 104 Avenue NW\, Edmonton\, Alberta\, Canada
END:VEVENT
END:VCALENDAR