BEGIN:VCALENDAR
VERSION:2.0
PRODID:-//The Edmonton Rugby Football Club - Pirates Rugby - ECPv4.6.2//NONSGML v1.0//EN
CALSCALE:GREGORIAN
METHOD:PUBLISH
X-WR-CALNAME:The Edmonton Rugby Football Club - Pirates Rugby
X-ORIGINAL-URL:http://34.213.199.134
X-WR-CALDESC:Events for The Edmonton Rugby Football Club - Pirates Rugby
BEGIN:VEVENT
DTSTART;TZID=UTC+0:20180712T190000
DTEND;TZID=UTC+0:20180712T220000
DTSTAMP:20260424T051219
CREATED:20180604T032637Z
LAST-MODIFIED:20180604T032637Z
UID:2044-1531422000-1531432800@34.213.199.134
SUMMARY:AWP Game vs Lep Tigers
DESCRIPTION:
URL:http://34.213.199.134/event/awp-game-vs-lep-tigers/
LOCATION:3004 92 Street NW\, Edmonton\, Alberta\, Canada
GEO:53.4623813;-113.4710159
X-APPLE-STRUCTURED-LOCATION;VALUE=URI;X-ADDRESS=3004 92 Street NW Edmonton Alberta Canada;X-APPLE-RADIUS=500;X-TITLE=3004 92 Street NW:geo:-113.4710159,53.4623813
END:VEVENT
END:VCALENDAR