BEGIN:VCALENDAR
VERSION:2.0
PRODID:-//The Edmonton Rugby Football Club - Pirates Rugby - ECPv4.6.2//NONSGML v1.0//EN
CALSCALE:GREGORIAN
METHOD:PUBLISH
X-WR-CALNAME:The Edmonton Rugby Football Club - Pirates Rugby
X-ORIGINAL-URL:http://34.213.199.134
X-WR-CALDESC:Events for The Edmonton Rugby Football Club - Pirates Rugby
BEGIN:VEVENT
DTSTART;TZID=UTC+0:20180628T190000
DTEND;TZID=UTC+0:20180628T220000
DTSTAMP:20260424T050625
CREATED:20180604T032442Z
LAST-MODIFIED:20180604T032442Z
UID:2041-1530212400-1530223200@34.213.199.134
SUMMARY:AWP Game vs Druids
DESCRIPTION:
URL:http://34.213.199.134/event/awp-game-vs-druids/
LOCATION:23360 Township Road 524A\, Sherwood Park\, Alberta\, Canada
GEO:53.5198513;-113.3372435
X-APPLE-STRUCTURED-LOCATION;VALUE=URI;X-ADDRESS=23360 Township Road 524A Sherwood Park Alberta Canada;X-APPLE-RADIUS=500;X-TITLE=23360 Township Road 524A:geo:-113.3372435,53.5198513
END:VEVENT
END:VCALENDAR